BEGIN:VCALENDAR
VERSION:2.0
PRODID:http://www.kufer.de/kuferweb / DE
METHOD:PUBLISH
CALSCALE:GREGORIAN
X-WR-TIMEZONE:Europe/Berlin
BEGIN:VTIMEZONE
TZID:Europe/Berlin
X-LIC-LOCATION:Europe/Berlin
BEGIN:DAYLIGHT
TZOFFSETFROM:+0100
TZOFFSETTO:+0200
TZNAME:CEST
DTSTART;TZID=Europe/Berlin:19700329T020000
RRULE:FREQ=YEARLY;INTERVAL=1;BYDAY=-1SU;BYMONTH=3
END:DAYLIGHT
BEGIN:STANDARD
TZOFFSETFROM:+0200
TZOFFSETTO:+0100
TZNAME:CET
DTSTART;TZID=Europe/Berlin:19701025T030000
RRULE:FREQ=YEARLY;INTERVAL=1;BYDAY=-1SU;BYMONTH=10
END:STANDARD
END:VTIMEZONE
BEGIN:VEVENT
DTSTAMP:20260421T050542
DTSTART;TZID=Europe/Berlin:20260611T110000
DTEND;TZID=Europe/Berlin:20260611T114500
UID:S26NB50003-20260611T110000@FABIMÜNCHEN
SUMMARY:Musik für Babys: Lieder, Reime und Kniereiter für Eltern mit Babys von 6 - 18 Monaten (S26NB50003) 
LOCATION:Delphinraum (Neuperlach), Albert-Schweitzer-Str. 66 / 4. OG, 817365 München
END:VEVENT
BEGIN:VEVENT
DTSTAMP:20260421T050542
DTSTART;TZID=Europe/Berlin:20260618T110000
DTEND;TZID=Europe/Berlin:20260618T114500
UID:S26NB50003-20260618T110000@FABIMÜNCHEN
SUMMARY:Musik für Babys: Lieder, Reime und Kniereiter für Eltern mit Babys von 6 - 18 Monaten (S26NB50003) 
LOCATION:Delphinraum (Neuperlach), Albert-Schweitzer-Str. 66 / 4. OG, 817365 München
END:VEVENT
BEGIN:VEVENT
DTSTAMP:20260421T050542
DTSTART;TZID=Europe/Berlin:20260625T110000
DTEND;TZID=Europe/Berlin:20260625T114500
UID:S26NB50003-20260625T110000@FABIMÜNCHEN
SUMMARY:Musik für Babys: Lieder, Reime und Kniereiter für Eltern mit Babys von 6 - 18 Monaten (S26NB50003) 
LOCATION:Delphinraum (Neuperlach), Albert-Schweitzer-Str. 66 / 4. OG, 817365 München
END:VEVENT
BEGIN:VEVENT
DTSTAMP:20260421T050542
DTSTART;TZID=Europe/Berlin:20260702T110000
DTEND;TZID=Europe/Berlin:20260702T114500
UID:S26NB50003-20260702T110000@FABIMÜNCHEN
SUMMARY:Musik für Babys: Lieder, Reime und Kniereiter für Eltern mit Babys von 6 - 18 Monaten (S26NB50003) 
LOCATION:Delphinraum (Neuperlach), Albert-Schweitzer-Str. 66 / 4. OG, 817365 München
END:VEVENT
BEGIN:VEVENT
DTSTAMP:20260421T050542
DTSTART;TZID=Europe/Berlin:20260709T110000
DTEND;TZID=Europe/Berlin:20260709T114500
UID:S26NB50003-20260709T110000@FABIMÜNCHEN
SUMMARY:Musik für Babys: Lieder, Reime und Kniereiter für Eltern mit Babys von 6 - 18 Monaten (S26NB50003) 
LOCATION:Delphinraum (Neuperlach), Albert-Schweitzer-Str. 66 / 4. OG, 817365 München
END:VEVENT
BEGIN:VEVENT
DTSTAMP:20260421T050542
DTSTART;TZID=Europe/Berlin:20260716T110000
DTEND;TZID=Europe/Berlin:20260716T114500
UID:S26NB50003-20260716T110000@FABIMÜNCHEN
SUMMARY:Musik für Babys: Lieder, Reime und Kniereiter für Eltern mit Babys von 6 - 18 Monaten (S26NB50003) 
LOCATION:Delphinraum (Neuperlach), Albert-Schweitzer-Str. 66 / 4. OG, 817365 München
END:VEVENT
END:VCALENDAR