BEGIN:VCALENDAR
VERSION:2.0
PRODID:http://www.kufer.de/kuferweb / DE
METHOD:PUBLISH
CALSCALE:GREGORIAN
X-WR-TIMEZONE:Europe/Berlin
BEGIN:VTIMEZONE
TZID:Europe/Berlin
X-LIC-LOCATION:Europe/Berlin
BEGIN:DAYLIGHT
TZOFFSETFROM:+0100
TZOFFSETTO:+0200
TZNAME:CEST
DTSTART;TZID=Europe/Berlin:19700329T020000
RRULE:FREQ=YEARLY;INTERVAL=1;BYDAY=-1SU;BYMONTH=3
END:DAYLIGHT
BEGIN:STANDARD
TZOFFSETFROM:+0200
TZOFFSETTO:+0100
TZNAME:CET
DTSTART;TZID=Europe/Berlin:19701025T030000
RRULE:FREQ=YEARLY;INTERVAL=1;BYDAY=-1SU;BYMONTH=10
END:STANDARD
END:VTIMEZONE
BEGIN:VEVENT
DTSTAMP:20260421T050541
DTSTART;TZID=Europe/Berlin:20260611T091500
DTEND;TZID=Europe/Berlin:20260611T104500
UID:S26ND01102-20260611T091500@FABIMÜNCHEN
SUMMARY:Spielerisches Musizieren: Musik gemeinsam entdecken, mit Austausch zur musikalischen Erziehung, für Eltern mit Kindern von 18 - 36 Monaten (S26ND01102) 
LOCATION:Delphinraum (Neuperlach), Albert-Schweitzer-Str. 66 / 4. OG, 817365 München
END:VEVENT
BEGIN:VEVENT
DTSTAMP:20260421T050541
DTSTART;TZID=Europe/Berlin:20260618T091500
DTEND;TZID=Europe/Berlin:20260618T104500
UID:S26ND01102-20260618T091500@FABIMÜNCHEN
SUMMARY:Spielerisches Musizieren: Musik gemeinsam entdecken, mit Austausch zur musikalischen Erziehung, für Eltern mit Kindern von 18 - 36 Monaten (S26ND01102) 
LOCATION:Delphinraum (Neuperlach), Albert-Schweitzer-Str. 66 / 4. OG, 817365 München
END:VEVENT
BEGIN:VEVENT
DTSTAMP:20260421T050541
DTSTART;TZID=Europe/Berlin:20260625T091500
DTEND;TZID=Europe/Berlin:20260625T104500
UID:S26ND01102-20260625T091500@FABIMÜNCHEN
SUMMARY:Spielerisches Musizieren: Musik gemeinsam entdecken, mit Austausch zur musikalischen Erziehung, für Eltern mit Kindern von 18 - 36 Monaten (S26ND01102) 
LOCATION:Delphinraum (Neuperlach), Albert-Schweitzer-Str. 66 / 4. OG, 817365 München
END:VEVENT
BEGIN:VEVENT
DTSTAMP:20260421T050541
DTSTART;TZID=Europe/Berlin:20260702T091500
DTEND;TZID=Europe/Berlin:20260702T104500
UID:S26ND01102-20260702T091500@FABIMÜNCHEN
SUMMARY:Spielerisches Musizieren: Musik gemeinsam entdecken, mit Austausch zur musikalischen Erziehung, für Eltern mit Kindern von 18 - 36 Monaten (S26ND01102) 
LOCATION:Delphinraum (Neuperlach), Albert-Schweitzer-Str. 66 / 4. OG, 817365 München
END:VEVENT
BEGIN:VEVENT
DTSTAMP:20260421T050541
DTSTART;TZID=Europe/Berlin:20260709T091500
DTEND;TZID=Europe/Berlin:20260709T104500
UID:S26ND01102-20260709T091500@FABIMÜNCHEN
SUMMARY:Spielerisches Musizieren: Musik gemeinsam entdecken, mit Austausch zur musikalischen Erziehung, für Eltern mit Kindern von 18 - 36 Monaten (S26ND01102) 
LOCATION:Delphinraum (Neuperlach), Albert-Schweitzer-Str. 66 / 4. OG, 817365 München
END:VEVENT
BEGIN:VEVENT
DTSTAMP:20260421T050541
DTSTART;TZID=Europe/Berlin:20260716T091500
DTEND;TZID=Europe/Berlin:20260716T104500
UID:S26ND01102-20260716T091500@FABIMÜNCHEN
SUMMARY:Spielerisches Musizieren: Musik gemeinsam entdecken, mit Austausch zur musikalischen Erziehung, für Eltern mit Kindern von 18 - 36 Monaten (S26ND01102) 
LOCATION:Delphinraum (Neuperlach), Albert-Schweitzer-Str. 66 / 4. OG, 817365 München
END:VEVENT
END:VCALENDAR